BEGIN:VCALENDAR
VERSION:2.0
PRODID:-//Squarespace Inc/Squarespace 6//v6//EN
BEGIN:VEVENT
UID:5a66de8e71c10bf8dffbbe75@squarespace.com
DTSTAMP:20180123T070527Z
DTSTART:20180219T083000Z
DTEND:20180219T110000Z
SUMMARY:Secret Garden Party
GEO:-31.974849;115.816938
LOCATION:Meet outside Withnell Dinning Hall\, 2 Park Road\, Crawley\, WA\, 
 6009\, Australia
END:VEVENT
END:VCALENDAR
