BEGIN:VCALENDAR
VERSION:2.0
PRODID:-//Squarespace Inc/Squarespace 6//v6//EN
BEGIN:VEVENT
UID:5a66dcec8165f59d84ac62be@squarespace.com
DTSTAMP:20180123T065825Z
DTSTART:20180219T023000Z
DTEND:20180219T040000Z
SUMMARY:Red Frog – Life After Year 12
GEO:-31.974849;115.816938
LOCATION:Conference Room\, 2 Park Road\, Crawley\, WA\, 6009\, Australia
END:VEVENT
END:VCALENDAR
