BEGIN:VCALENDAR
VERSION:2.0
PRODID:-//Squarespace Inc/Squarespace 6//v6//EN
BEGIN:VEVENT
UID:5a66dcb5e2c48352fccd1c5d@squarespace.com
DTSTAMP:20180123T070159Z
DTSTART:20180219T013000Z
DTEND:20180219T023000Z
SUMMARY:Fresher Dance
GEO:-31.974849;115.816938
LOCATION:St Catherine's College\, 2 Park Road\, Crawley\, WA\, 6009\, Austr
 alia
END:VEVENT
END:VCALENDAR
