BEGIN:VCALENDAR
VERSION:2.0
PRODID:-//Squarespace Inc/Squarespace 6//v6//EN
BEGIN:VEVENT
UID:5a66df0653450a2008a2391d@squarespace.com
DTSTAMP:20180123T070955Z
DTSTART:20180219T110000Z
DTEND:20180219T120000Z
SUMMARY:Dinner: Burger Bar
GEO:-31.974849;115.816938
LOCATION:Jull Courtyard\, 2 Park Road\, Crawley\, WA\, 6009\, Australia
END:VEVENT
END:VCALENDAR
