BEGIN:VCALENDAR
VERSION:2.0
PRODID:-//Squarespace Inc/Squarespace 6//v6//EN
BEGIN:VEVENT
UID:5a66de3271c10bf8dffbb48f@squarespace.com
DTSTAMP:20180123T070356Z
DTSTART:20180219T053000Z
DTEND:20180219T070000Z
SUMMARY:College Life Hacks
GEO:-31.974849;115.816938
LOCATION:Conference Room\, 2 Park Road\, Crawley\, WA\, 6009\, Australia
END:VEVENT
END:VCALENDAR
