BEGIN:VCALENDAR
VERSION:2.0
PRODID:-//Squarespace Inc/Squarespace 6//v6//EN
BEGIN:VEVENT
UID:5a66db5f24a69492e7c922c7@squarespace.com
DTSTAMP:20180123T065139Z
DTSTART:20180218T093000Z
DTEND:20180218T100000Z
SUMMARY:Fresher Dance
END:VEVENT
END:VCALENDAR
