BEGIN:VCALENDAR
VERSION:2.0
PRODID:-//Squarespace Inc/Squarespace 6//v6//EN
BEGIN:VEVENT
UID:5a66da9f652dea88224df88e@squarespace.com
DTSTAMP:20180123T065041Z
DTSTART:20180218T063000Z
DTEND:20180218T080000Z
SUMMARY:Farewells/Shower Time
GEO:-31.974849;115.816938
LOCATION:St Catherine's College\, 2 Park Road\, Crawley\, WA\, 6009\, Austr
 alia
END:VEVENT
END:VCALENDAR
