BEGIN:VCALENDAR
VERSION:2.0
PRODID:-//Squarespace Inc/Squarespace 6//v6//EN
BEGIN:VEVENT
UID:5a66d8ce0d92971bebd3a1bb@squarespace.com
DTSTAMP:20180123T065054Z
DTSTART:20180218T043000Z
DTEND:20180218T063000Z
SUMMARY:Commencement Lunch
GEO:-31.974849;115.816938
LOCATION:Jull Courtyard\, 2 Park Road\, Crawley\, WA\, 6009\, Australia
END:VEVENT
END:VCALENDAR
