BEGIN:VCALENDAR
VERSION:2.0
PRODID:-//Squarespace Inc/Squarespace 6//v6//EN
BEGIN:VEVENT
UID:5a66de040852299e79a1a104@squarespace.com
DTSTAMP:20180123T070304Z
DTSTART:20180218T043000Z
DTEND:20180218T053000Z
SUMMARY:Cheer Squad
GEO:-31.974849;115.816938
LOCATION:St Catherine's College\, 2 Park Road\, Crawley\, WA\, 6009\, Austr
 alia
END:VEVENT
END:VCALENDAR
