BEGIN:VCALENDAR
VERSION:2.0
PRODID:-//Squarespace Inc/Squarespace 6//v6//EN
BEGIN:VEVENT
UID:5a66d826652dea88224daaff@squarespace.com
DTSTAMP:20180123T065104Z
DTSTART:20180218T010000Z
DTEND:20180218T043000Z
SUMMARY:Check-in
GEO:-31.974849;115.816938
LOCATION:St Catherine's College\, 2 Park Road\, Crawley\, Australia
END:VEVENT
END:VCALENDAR
