BEGIN:VCALENDAR
VERSION:2.0
PRODID:-//Squarespace Inc/Squarespace 6//v6//EN
BEGIN:VEVENT
UID:5bb8c87f4785d375cda4e995@squarespace.com
DTSTAMP:20181006T144155Z
DTSTART:20181015T093000Z
DTEND:20181015T113000Z
SUMMARY:Sports Dinner
END:VEVENT
END:VCALENDAR
