BEGIN:VCALENDAR
VERSION:2.0
PRODID:-//Squarespace Inc/Squarespace 6//v6//EN
BEGIN:VEVENT
UID:5bb5cfc2eef1a13f1f4f85b5@squarespace.com
DTSTAMP:20181004T083540Z
DTSTART:20181008T093000Z
DTEND:20181008T120000Z
SUMMARY:Formal Hall - 8 October 2018
GEO:-31.974705;115.815367
LOCATION:Withnell Dining Hall\, 2 Park Road\, Crawley\, WA\, 6009\, Austral
 ia
END:VEVENT
END:VCALENDAR
