BEGIN:VCALENDAR
VERSION:2.0
PRODID:-//Squarespace Inc/Squarespace 6//v6//EN
BEGIN:VEVENT
UID:5bb5cc6aeef1a13f1f4f6e68@squarespace.com
DTSTAMP:20181004T082041Z
DTSTART:20181023T093000Z
DTEND:20181023T123000Z
SUMMARY:Valedictory Dinner
END:VEVENT
END:VCALENDAR
