BEGIN:VCALENDAR
VERSION:2.0
PRODID:-//Squarespace Inc/Squarespace 6//v6//EN
BEGIN:VEVENT
UID:5badd8aff4e1fc6b8c7e21c3@squarespace.com
DTSTAMP:20180928T081020Z
DTSTART:20181001T093000Z
DTEND:20181001T110000Z
SUMMARY:Formal Hall - 1 October 2018
GEO:-31.974705;115.815367
LOCATION:Withnell Dining Hall\, 2 Park Road\, Crawley\, WA\, 6009\, Austral
 ia
END:VEVENT
END:VCALENDAR
