BEGIN:VCALENDAR
VERSION:2.0
PRODID:-//Squarespace Inc/Squarespace 6//v6//EN
BEGIN:VEVENT
UID:5a66e68e419202ba47d741a1@squarespace.com
DTSTAMP:20180123T074514Z
DTSTART:20180223T120000Z
DTEND:20180223T153000Z
SUMMARY:Toga Party
GEO:-31.974849;115.816938
LOCATION:Jull Courtyard\, 2 Park Road\, Crawley\, WA\, 6009\, Australia
END:VEVENT
END:VCALENDAR
