BEGIN:VCALENDAR
VERSION:2.0
PRODID:-//Squarespace Inc/Squarespace 6//v6//EN
BEGIN:VEVENT
UID:5a66e47ff9619a21f7833ba8@squarespace.com
DTSTAMP:20180123T075342Z
DTSTART:20180222T050000Z
DTEND:20180222T070000Z
SUMMARY:SARC – Consent & Relationships: getting it right
GEO:-31.974849;115.816938
LOCATION:St Catherine's College\, 2 Park Road\, Crawley\, WA\, 6009\, Austr
 alia
END:VEVENT
END:VCALENDAR
