BEGIN:VCALENDAR
VERSION:2.0
PRODID:-//Squarespace Inc/Squarespace 6//v6//EN
BEGIN:VEVENT
UID:5a66e125652dea88224ec0cb@squarespace.com
DTSTAMP:20180123T074453Z
DTSTART:20180220T073000Z
DTEND:20180220T090000Z
SUMMARY:Insta Treasure Hunt
GEO:-31.974849;115.816938
LOCATION:St Catherine's College\, 2 Park Road\, Crawley\, WA\, 6009\, Austr
 alia
END:VEVENT
END:VCALENDAR
