BEGIN:VCALENDAR
VERSION:2.0
PRODID:-//Squarespace Inc/Squarespace 6//v6//EN
BEGIN:VEVENT
UID:5a66dbc18165f59d84ac4022@squarespace.com
DTSTAMP:20180123T070210Z
DTSTART:20180218T100000Z
DTEND:20180218T113000Z
SUMMARY:Dinner: Lamb on the Spit & Gyros Bar
GEO:-31.974849;115.816938
LOCATION:Withnell Dinning Hall\, 2 Park Road\, Crawley\, WA\, 6009\, Austra
 lia
END:VEVENT
END:VCALENDAR
