BEGIN:VCALENDAR
VERSION:2.0
PRODID:-//Squarespace Inc/Squarespace 6//v6//EN
BEGIN:VEVENT
UID:5a66e51c9140b71728083884@squarespace.com
DTSTAMP:20180123T074545Z
DTSTART:20180222T090000Z
DTEND:20180222T103000Z
SUMMARY:Dinner: Gladiator Wing Combat Preparation
GEO:-31.974849;115.816938
LOCATION:St Catherine's College\, 2 Park Road\, Crawley\, WA\, 6009\, Austr
 alia
END:VEVENT
END:VCALENDAR
