BEGIN:VCALENDAR
VERSION:2.0
PRODID:-//Squarespace Inc/Squarespace 6//v6//EN
BEGIN:VEVENT
UID:597fe51bd482e9dac972b960@squarespace.com
DTSTAMP:20171123T052545Z
DTSTART:20171202T060000Z
DTEND:20171202T083000Z
SUMMARY:1960’s reunion
GEO:-31.974849;115.816938
LOCATION:St Catherine's College\, 2 Park Road\, Crawley\, WA\, 6009\, Austr
 alia
END:VEVENT
END:VCALENDAR
